BEGIN:VCALENDAR
VERSION:2.0
PRODID:-//Dover Fringe Festival - ECPv6.15.20//NONSGML v1.0//EN
CALSCALE:GREGORIAN
METHOD:PUBLISH
X-ORIGINAL-URL:https://doverfringe.uk
X-WR-CALDESC:Events for Dover Fringe Festival
REFRESH-INTERVAL;VALUE=DURATION:PT1H
X-Robots-Tag:noindex
X-PUBLISHED-TTL:PT1H
BEGIN:VTIMEZONE
TZID:Europe/London
BEGIN:DAYLIGHT
TZOFFSETFROM:+0000
TZOFFSETTO:+0100
TZNAME:BST
DTSTART:20240331T010000
END:DAYLIGHT
BEGIN:STANDARD
TZOFFSETFROM:+0100
TZOFFSETTO:+0000
TZNAME:GMT
DTSTART:20241027T010000
END:STANDARD
BEGIN:DAYLIGHT
TZOFFSETFROM:+0000
TZOFFSETTO:+0100
TZNAME:BST
DTSTART:20250330T010000
END:DAYLIGHT
BEGIN:STANDARD
TZOFFSETFROM:+0100
TZOFFSETTO:+0000
TZNAME:GMT
DTSTART:20251026T010000
END:STANDARD
BEGIN:DAYLIGHT
TZOFFSETFROM:+0000
TZOFFSETTO:+0100
TZNAME:BST
DTSTART:20260329T010000
END:DAYLIGHT
BEGIN:STANDARD
TZOFFSETFROM:+0100
TZOFFSETTO:+0000
TZNAME:GMT
DTSTART:20261025T010000
END:STANDARD
END:VTIMEZONE
BEGIN:VEVENT
DTSTART;TZID=Europe/London:20250523T201500
DTEND;TZID=Europe/London:20250523T211500
DTSTAMP:20260425T175325
CREATED:20250323T144527Z
LAST-MODIFIED:20250331T071658Z
UID:124-1748031300-1748034900@doverfringe.uk
SUMMARY:Bald Man Sings Rihanna
DESCRIPTION:7 full Edinburgh runs with great audiences and 5 star reviews\, also performed at Fringes around the world including Perth\, Adelaide\, New Zealand
URL:https://doverfringe.uk/event/bald-man-sings-rihanna-2025/
LOCATION:Vinoteq\, 1 Cannon Street\, Dover\, Kent\, CT16 1BY\, United Kingdom
ATTACH;FMTTYPE=image/jpeg:https://doverfringe.uk/wp-content/uploads/2025/03/baldmansings.jpg
END:VEVENT
BEGIN:VEVENT
DTSTART;TZID=Europe/London:20250523T190000
DTEND;TZID=Europe/London:20250523T200000
DTSTAMP:20260425T175325
CREATED:20250325T104235Z
LAST-MODIFIED:20250331T071658Z
UID:181-1748026800-1748030400@doverfringe.uk
SUMMARY:60 Minute Millionaire
DESCRIPTION:Become a millionaire in just 60 minutes\, with tips from Mr MoneyBags himself\, Steve Boobis*. This is a ‘Wealth Accumulation Seminar’\, not a comedy show. Less ‘get rich quick’ and more ‘become wealthy fast’. *Real live millionaire: not a comedian in a bald-cap. Performed by Katie Davison (@karactersonline). As seen on BBC Three\, heard on BBC Radio. ‘Hilarious’ (BroadwayWorld.com) \nThis is the show I am working on for Edinburgh Fringe 2025. Elements of clown\, audience interaction and jokes. I play millionaire and idiot\, Steve Boobis\, who is doing a get-rich-quick seminar. However\, he might not be as successful as he says….@karactersonline
URL:https://doverfringe.uk/event/60-minute-millionaire-2025/
LOCATION:Vinoteq\, 1 Cannon Street\, Dover\, Kent\, CT16 1BY\, United Kingdom
ATTACH;FMTTYPE=image/jpeg:https://doverfringe.uk/wp-content/uploads/2025/03/60min.jpg
END:VEVENT
BEGIN:VEVENT
DTSTART;TZID=Europe/London:20250518T203000
DTEND;TZID=Europe/London:20250518T213000
DTSTAMP:20260425T175325
CREATED:20250325T104235Z
LAST-MODIFIED:20250421T094425Z
UID:184-1747600200-1747603800@doverfringe.uk
SUMMARY:Ted Danson\, Man of Kent with Dover Tales
DESCRIPTION:Ted Danson and William the Conqueror? Is there a link? Surely some mistake? Its a long way from Normandy to San Diego but you can be sure the route passes through Dover.\nExplore 1\,000 years of history by following the ancestral trail of Sam Malone\, Dr Becker and that fella from 3 Men and a Baby\, Fargo and The Good Place.\nFrom Dover Castle to Southern California we pose the question - Ted Danson\, actor\, activist\, author ... and Man of Kent?\nhttps://facebook.com/dovertales
URL:https://doverfringe.uk/event/ted-danson-man-of-kent-2-2025/
LOCATION:Vinoteq\, 1 Cannon Street\, Dover\, Kent\, CT16 1BY\, United Kingdom
ATTACH;FMTTYPE=image/jpeg:https://doverfringe.uk/wp-content/uploads/2025/03/cheers.jpg
END:VEVENT
BEGIN:VEVENT
DTSTART;TZID=Europe/London:20250518T193000
DTEND;TZID=Europe/London:20250518T203000
DTSTAMP:20260425T175325
CREATED:20250323T144514Z
LAST-MODIFIED:20250421T094447Z
UID:125-1747596600-1747600200@doverfringe.uk
SUMMARY:On the Halls with Marie Lloyd
DESCRIPTION:Biographic drama including songs\, about the life and loves of music hall legend Marie Lloyd – including her activism for performers rights. \nSet in the heyday of Music Hall\, On the Halls takes you back in time to remember Marie Lloyd and Vesta Tilley\, two of the music halls’ most successful female performers. Between the 1880s and 1920s\, the pair endured a bitter competition to determine who really dominated the British Music Hall. \n   \n  \nKellygreenproductions \nInstagram @brownpennyduo \nReview: On the Halls\, Tristan Bates Theatre
URL:https://doverfringe.uk/event/on-the-halls-with-marie-lloyd-2025/
LOCATION:Vinoteq\, 1 Cannon Street\, Dover\, Kent\, CT16 1BY\, United Kingdom
ATTACH;FMTTYPE=image/png:https://doverfringe.uk/wp-content/uploads/2025/04/On-the-Halls-poster-2025.png
END:VEVENT
BEGIN:VEVENT
DTSTART;TZID=Europe/London:20250518T150000
DTEND;TZID=Europe/London:20250518T160000
DTSTAMP:20260425T175325
CREATED:20250325T104246Z
LAST-MODIFIED:20250331T071658Z
UID:192-1747580400-1747584000@doverfringe.uk
SUMMARY:On Yellow and Blue
DESCRIPTION:On Yellow and Blue is a British-Ukrainian band known for their thought-provoking songs on social issues\, delivered through a light rock performance with an eclectic\, ever-evolving sound. Each track brings something unique\, as the band enjoys experimenting with various styles and weaving ironic life events into their lyrics. Originally formed to perform at charity events supporting Ukraine\, the band has went on to write their own music combining both western and ukrainian musical influences.  \nWith a passion for multiculturalism and community engagement\, On Yellow and Blue has performed at various festivals across Kent\, including the Folkestone and Dover Multicultural Festivals\, and the Canterbury Three Cultures Festival. They’ve also been featured in the Folkestone episode of Andi Oliver’s Fantastic Feasts.  \nFollow them on Facebook\, TikTok and Instagram @onyellowandblue.
URL:https://doverfringe.uk/event/on-yellow-and-blue-3-2025/
LOCATION:The Art Club\, 27 Market Sq\, Dover\, Kent\, CT16 1NG\, United Kingdom
ATTACH;FMTTYPE=image/jpeg:https://doverfringe.uk/wp-content/uploads/2025/03/OYAB_logo-scaled.jpg
END:VEVENT
BEGIN:VEVENT
DTSTART;TZID=Europe/London:20250517T190000
DTEND;TZID=Europe/London:20250517T200000
DTSTAMP:20260425T175325
CREATED:20250323T150112Z
LAST-MODIFIED:20250331T071658Z
UID:130-1747508400-1747512000@doverfringe.uk
SUMMARY:Run. Scream. Die.
DESCRIPTION:Come all! An auction for all you fans of horror and the macabre! We have items of interest recovered from horrifying events so come on down to bid or just enjoy the dark atmosphere as each lot is presented along with it’s startling provenance. Will you laugh or scream at what dumb events lead to the grisly ends? The characters don’t know what’s coming\, but I bet you do… \nThis is my show for the 2025 “Fringe”. After a first two night run at the Old Red Lion in Islington this review was presented: \n\n…a tantalizing glimpse into his macabre imagination\, a collection of short\, funky horror stories that danced between the deliciously suspenseful and the playfully spooky. Groves\, a true raconteur\, wove tales that were at times quirky\, at others laced with a dry\, banterous humour that tickled the funny bone even as chills ran down the spine. We\, the audience\, were captivated by the sheer power of his storytelling.  (London Fringe Theatre Reviews) \n\n  \n@kevingroveshok\nkevingrovesstoryteller.uk \n  \n 
URL:https://doverfringe.uk/event/run-scream-die-2025/
LOCATION:Vinoteq\, 1 Cannon Street\, Dover\, Kent\, CT16 1BY\, United Kingdom
ATTACH;FMTTYPE=image/png:https://doverfringe.uk/wp-content/uploads/2025/03/RunScreamDie-front.png
END:VEVENT
BEGIN:VEVENT
DTSTART;TZID=Europe/London:20250516T201500
DTEND;TZID=Europe/London:20250516T211500
DTSTAMP:20260425T175325
CREATED:20250323T150113Z
LAST-MODIFIED:20250331T071658Z
UID:138-1747426500-1747430100@doverfringe.uk
SUMMARY:Phil Green: A Broken Man's Guide to Fixing Others
DESCRIPTION:Having definitely 100% totally recovered from a breakdown\, Phil now brings us a show that can save all men from a mental health crisis (well\, maybe not all men). Phil guides us through how to let go of typical regrets like when you accidently out your sister in hospital 30yrs ago or when you when you mess up an audition for Big Brother 5 (even though on reflection it was really due to flaws in the audition process so not really your fault at all)\, he’s moved on from all of that and now has a handy guide to save us all. \nAs heard on BBC Radio 4. Following back-to-back sold-out Edinburgh Fringe runs\, multiple award nominations\, over 20 million views on TikTok and selling out London’s Soho Theatre\, Phil brings us a brand new life changing work-in-progress show. \n@philgreencomedy (insta\, TikTok\, X\, FB)
URL:https://doverfringe.uk/event/a-broken-mans-guide-to-fixing-others-2025/
LOCATION:The Art Club\, 27 Market Sq\, Dover\, Kent\, CT16 1NG\, United Kingdom
ATTACH;FMTTYPE=image/jpeg:https://doverfringe.uk/wp-content/uploads/2025/03/Guilt-without-Guilt-Square.jpg
END:VEVENT
BEGIN:VEVENT
DTSTART;TZID=Europe/London:20250516T190000
DTEND;TZID=Europe/London:20250516T200000
DTSTAMP:20260425T175325
CREATED:20250323T150113Z
LAST-MODIFIED:20250331T071658Z
UID:137-1747422000-1747425600@doverfringe.uk
SUMMARY:Peter Buckley Hill: Bottom Of The Bill In A One Man Show
DESCRIPTION:Peter Buckley Hill founded the Free Fringe in Edinburgh. Which is a long way from Dover. But so is Montevideo. He hasn’t been there. Instead\, this vile and decrepit ancient monument spends his time writing songs\, most of which are supposed to be funny. Are they? It’s up to you to judge that. Occasionally people do like them. \n***** The Scotsman. \nWhich is a long way away from the Dover Mercury. Although not as far as Mercury. PBH has never been there either. \n  \nhttps://buckers.co.uk
URL:https://doverfringe.uk/event/bottom-of-the-billi-in-a-one-man-show-2025/
LOCATION:The Art Club\, 27 Market Sq\, Dover\, Kent\, CT16 1NG\, United Kingdom
ATTACH;FMTTYPE=image/jpeg:https://doverfringe.uk/wp-content/uploads/2025/03/pbh9lessons_22.jpg
END:VEVENT
BEGIN:VEVENT
DTSTART;TZID=Europe/London:20250514T201500
DTEND;TZID=Europe/London:20250514T211500
DTSTAMP:20260425T175325
CREATED:20250325T104235Z
LAST-MODIFIED:20250331T071658Z
UID:182-1747253700-1747257300@doverfringe.uk
SUMMARY:Tales Of Ancient Egypt
DESCRIPTION:Ancient Egypt is full of myths\, legends\, magic\, and adventure. Join Kevin as he spins a few stories from ancient literature that have been a part of his life since childhood. A mix of adventure\, intrigue in the court of Pharaoh\, and expressions of love. \nA surprisingly popular show at Edinburgh fringe 2023 and 2024 with audience comments including: \nSurprises galore / \nWonderful enthusiasm + knowledge! / \nAn enjoyable storyteller \n  \n@kevingroveshok\nkevingrovesstoryteller.uk
URL:https://doverfringe.uk/event/tales-of-ancient-egypt-2025/
LOCATION:Vinoteq\, 1 Cannon Street\, Dover\, Kent\, CT16 1BY\, United Kingdom
ATTACH;FMTTYPE=image/jpeg:https://doverfringe.uk/wp-content/uploads/2025/03/talesofae.jpg
END:VEVENT
BEGIN:VEVENT
DTSTART;TZID=Europe/London:20250514T190000
DTEND;TZID=Europe/London:20250514T200000
DTSTAMP:20260425T175325
CREATED:20250323T150113Z
LAST-MODIFIED:20250331T071658Z
UID:123-1747249200-1747252800@doverfringe.uk
SUMMARY:Ted Danson\, Man of Kent with Dover Tales
DESCRIPTION:Ted Danson and William the Conqueror? Is there a link? Surely some mistake? Its a long way from Normandy to San Diego but you can be sure the route passes through Dover.\nExplore 1\,000 years of history by following the ancestral trail of Sam Malone\, Dr Becker and that fella from 3 Men and a Baby\, Fargo and The Good Place.\nFrom Dover Castle to Southern California we pose the question - Ted Danson\, actor\, activist\, author ... and Man of Kent?\nhttps://facebook.com/dovertales
URL:https://doverfringe.uk/event/ted-danson-man-of-kent-3-2025/
LOCATION:Vinoteq\, 1 Cannon Street\, Dover\, Kent\, CT16 1BY\, United Kingdom
ATTACH;FMTTYPE=image/jpeg:https://doverfringe.uk/wp-content/uploads/2025/03/cheers.jpg
END:VEVENT
BEGIN:VEVENT
DTSTART;TZID=Europe/London:20250511T163000
DTEND;TZID=Europe/London:20250511T173000
DTSTAMP:20260425T175325
CREATED:20250325T104233Z
LAST-MODIFIED:20250331T071658Z
UID:178-1746981000-1746984600@doverfringe.uk
SUMMARY:On Yellow and Blue
DESCRIPTION:On Yellow and Blue is a British-Ukrainian band known for their thought-provoking songs on social issues\, delivered through a light rock performance with an eclectic\, ever-evolving sound. Each track brings something unique\, as the band enjoys experimenting with various styles and weaving ironic life events into their lyrics. Originally formed to perform at charity events supporting Ukraine\, the band has went on to write their own music combining both western and ukrainian musical influences. \nWith a passion for multiculturalism and community engagement\, On Yellow and Blue has performed at various festivals across Kent\, including the Folkestone and Dover Multicultural Festivals\, and the Canterbury Three Cultures Festival. They’ve also been featured in the Folkestone episode of Andi Oliver’s Fantastic Feasts. \nFollow them on Facebook\, TikTok and Instagram @onyellowandblue.
URL:https://doverfringe.uk/event/on-yellow-and-blue-2025/
LOCATION:Vinoteq\, 1 Cannon Street\, Dover\, Kent\, CT16 1BY\, United Kingdom
ATTACH;FMTTYPE=image/jpeg:https://doverfringe.uk/wp-content/uploads/2025/03/OYAB_logo-scaled.jpg
END:VEVENT
BEGIN:VEVENT
DTSTART;TZID=Europe/London:20250511T151500
DTEND;TZID=Europe/London:20250511T161500
DTSTAMP:20260425T175325
CREATED:20250511T105028Z
LAST-MODIFIED:20250511T105028Z
UID:310-1746976500-1746980100@doverfringe.uk
SUMMARY:Inky's Mystery Files
DESCRIPTION:Strange stories picked up working as an investigative journalist around the Deal/Dover area. \nPerformed by Kevin Groves \n 
URL:https://doverfringe.uk/event/inkys-mystery-files/
LOCATION:Vinoteq\, 1 Cannon Street\, Dover\, Kent\, CT16 1BY\, United Kingdom
ATTACH;FMTTYPE=image/png:https://doverfringe.uk/wp-content/uploads/2025/05/inky-watermark.png
END:VEVENT
BEGIN:VEVENT
DTSTART;TZID=Europe/London:20250511T140000
DTEND;TZID=Europe/London:20250511T150000
DTSTAMP:20260425T175325
CREATED:20250429T202745Z
LAST-MODIFIED:20250505T151846Z
UID:303-1746972000-1746975600@doverfringe.uk
SUMMARY:Poetry in motion
DESCRIPTION:**🌟 Don’t Miss an hour of Poetry & Reflection in Dover! \nAli\, Mark\, and Nick—three voices 3 different journeys to destination Middle age. It hasn’t all been smooth sailing\, but these talented poets are here to turn life’s challenges into beautifully crafted verses. \nJoin them as they weave emotions into words\, sharing a collection that balances **poignant truths** with **topical reflections**. Their stories prove that even in the darkest days\, creativity shines as life’s brightest beacon.
URL:https://doverfringe.uk/event/poetry-in-motion/
LOCATION:Vinoteq\, 1 Cannon Street\, Dover\, Kent\, CT16 1BY\, United Kingdom
ATTACH;FMTTYPE=image/png:https://doverfringe.uk/wp-content/uploads/2025/04/Poetryinmotion.png
END:VEVENT
BEGIN:VEVENT
DTSTART;TZID=Europe/London:20250510T150000
DTEND;TZID=Europe/London:20250510T160000
DTSTAMP:20260425T175325
CREATED:20250325T104246Z
LAST-MODIFIED:20250331T071658Z
UID:191-1746889200-1746892800@doverfringe.uk
SUMMARY:On Yellow and Blue
DESCRIPTION:On Yellow and Blue is a British-Ukrainian band known for their thought-provoking songs on social issues\, delivered through a light rock performance with an eclectic\, ever-evolving sound. Each track brings something unique\, as the band enjoys experimenting with various styles and weaving ironic life events into their lyrics. Originally formed to perform at charity events supporting Ukraine\, the band has went on to write their own music combining both western and ukrainian musical influences. \nWith a passion for multiculturalism and community engagement\, On Yellow and Blue has performed at various festivals across Kent\, including the Folkestone and Dover Multicultural Festivals\, and the Canterbury Three Cultures Festival. They’ve also been featured in the Folkestone episode of Andi Oliver’s Fantastic Feasts. \nFollow them on Facebook\, TikTok and Instagram @onyellowandblue.
URL:https://doverfringe.uk/event/on-yellow-and-blue-2-2025/
LOCATION:The Art Club\, 27 Market Sq\, Dover\, Kent\, CT16 1NG\, United Kingdom
ATTACH;FMTTYPE=image/jpeg:https://doverfringe.uk/wp-content/uploads/2025/03/OYAB_logo-scaled.jpg
END:VEVENT
BEGIN:VEVENT
DTSTART;TZID=Europe/London:20250510T131500
DTEND;TZID=Europe/London:20250510T141500
DTSTAMP:20260425T175325
CREATED:20250325T104240Z
LAST-MODIFIED:20250510T101916Z
UID:189-1746882900-1746886500@doverfringe.uk
SUMMARY:The Great Mysterio - CANCELLED DUE TO SICKNESS
DESCRIPTION:Shrouded in secrecy and draped in illusion\, The Great Mysterio is one of the world’s most elusive magicians. An award-winning master of deception\, Mysterio has dazzled audiences across the globe with mind-bending performances that defy logic and challenge reality. \nWhat sets The Great Mysterio apart isn’t just the artistry of his magic\, but the mystery of his identity. No one knows who he truly is. Hidden behind an ever-changing mask\, his voice distorted\, his movements calculated\, Mysterio exists only as a legend—an apparition that appears on stage\, performs the impossible\, and vanishes without a trace. \nCritics and fans alike have speculated for years: is he a single magician\, or a legacy passed from one performer to another? Some say he’s a famous illusionist in disguise\, while others whisper of supernatural origins. Yet\, no claim has ever been confirmed. \n@greatmysterio
URL:https://doverfringe.uk/event/the-great-mysterio-2025/
LOCATION:The Art Club\, 27 Market Sq\, Dover\, Kent\, CT16 1NG\, United Kingdom
ATTACH;FMTTYPE=image/png:https://doverfringe.uk/wp-content/uploads/2025/04/Great-Mysterio-Promo-Sq.png
END:VEVENT
END:VCALENDAR